BEGIN:VCALENDAR
VERSION:2.0
PRODID:-//AGC Edge - ECPv6.15.15//NONSGML v1.0//EN
CALSCALE:GREGORIAN
METHOD:PUBLISH
X-WR-CALNAME:AGC Edge
X-ORIGINAL-URL:https://edge.agc.org
X-WR-CALDESC:Events for AGC Edge
REFRESH-INTERVAL;VALUE=DURATION:PT1H
X-Robots-Tag:noindex
X-PUBLISHED-TTL:PT1H
BEGIN:VTIMEZONE
TZID:America/New_York
BEGIN:DAYLIGHT
TZOFFSETFROM:-0500
TZOFFSETTO:-0400
TZNAME:EDT
DTSTART:20250309T070000
END:DAYLIGHT
BEGIN:STANDARD
TZOFFSETFROM:-0400
TZOFFSETTO:-0500
TZNAME:EST
DTSTART:20251102T060000
END:STANDARD
BEGIN:DAYLIGHT
TZOFFSETFROM:-0500
TZOFFSETTO:-0400
TZNAME:EDT
DTSTART:20260308T070000
END:DAYLIGHT
BEGIN:STANDARD
TZOFFSETFROM:-0400
TZOFFSETTO:-0500
TZNAME:EST
DTSTART:20261101T060000
END:STANDARD
BEGIN:DAYLIGHT
TZOFFSETFROM:-0500
TZOFFSETTO:-0400
TZNAME:EDT
DTSTART:20270314T070000
END:DAYLIGHT
BEGIN:STANDARD
TZOFFSETFROM:-0400
TZOFFSETTO:-0500
TZNAME:EST
DTSTART:20271107T060000
END:STANDARD
END:VTIMEZONE
BEGIN:VEVENT
DTSTART;TZID=America/New_York:20260504T160000
DTEND;TZID=America/New_York:20260512T203000
DTSTAMP:20260419T233608
CREATED:20250627T200734Z
LAST-MODIFIED:20251205T170213Z
UID:10000985-1777910400-1778617800@edge.agc.org
SUMMARY:Planning and Scheduling (STP Unit 3)
DESCRIPTION:Classes are held Mondays and TuesdaysMay 4\, 5\, 11\, 124 – 8:30 PM EDT  \n\n\n\n\n\n\n\n\n\n\n\n\n\n\n\n\nView other courses in the STP\n\n\n\n\n\n\n\n\n\n\n\n\n\nAbout the Course\n\n\n\nPlanning and Scheduling: Blueprint for Success Effective planning and scheduling are the backbone of any successful construction project. The Planning and Scheduling unit in AGC’s Supervisory Training Program\, 10th edition equips you with the technical skills necessary to ensure your projects run smoothly from start to finish. The highly collaborative virtual program provides instruction via Zoom and is best suited for anyone on a construction jobsite in a supervisory role – from the new supervisor or foreman to the experienced superintendent who is looking to become a more effective manager of people\, time\, equipment and materials. \n\n\n\n\nComprehensive Project Planning: Learn how to meticulously plan every aspect of your project. From initial concept to final completion\, understand how to create detailed project plans that anticipate challenges and streamline operations.\n\n\n\nUtilizing Schedules: Discover how to develop and manage project schedules that communicate your plan clearly to all stakeholders. Learn techniques to track progress\, adjust timelines\, and ensure timely project completion.\n\n\n\nTracking Progress: Master the tools and methods for monitoring project milestones and performance. Gain insights into identifying potential delays and implementing corrective actions to keep your project on track.\n\n\n\n\nThis course is 1 of 6 units in the newly updated Supervisory Training Program (STP); a construction-specific training curriculum developed\, updated and field-tested by and for contractors. Supervisory skill—or the lack of it—directly affects every company’s bottom line. You make your money in the field\, and STP can help you improve your organization’s bottom line. \n\n\n\n\n\n. \n\n\n\nTopics Addressed \n\n\n\n\nLesson 1: Planning and Scheduling\n\n\n\nLesson 2: Elements of Scheduling\n\n\n\nLesson 3: Developing Project Schedules\n\n\n\nLesson 4: Communicating Project Schedules\n\n\n\nLesson 5: Updating Construction Schedules\n\n\n\n\nSTP Learning Objectives \n\n\n\nCancellation Policy: A full refund will be given to cancellations made 14 calendar days prior to the class kick-off. After such time\, no refunds will be given. Replacements are acceptable and must be submitted via email to meetings[@]agc.org. \n\n\n\nTransfer Policy: All transfers must be to courses starting within 90 days of the original course start date. Send transfer requests to meetings[@]agc.org.  \n\n\n\nAGC reserves the right to cancel programs up to 10 days prior to the start date if a minimum number of attendees is not met. \n\n\n\nQuestions? Email us at education[@]agc.org  \n\n\n\nAfter completing the course\, AGC Edge students receive a Certificate of Completion and a digital badge to share. \n\n\n\n\n\n\nTechnology and Participation: \n\n\n\n\nFor the classroom: \n\n\n\nFor participation: \n\n\n\n\nPlease have Zoom downloaded.\n\n\n\nComputer with dual monitor preferred.\n\n\n\nLaptop is good with a separate tablet to access their etextbook.\n\n\n\nTablet or phone is ok with hardcopy textbook\n\n\n\nTwo mobile devices ok – one for the meeting and one for the etextbook\n\n\n\n\n\nCamera\, either built in or added on and ready to stream to the classroom.\n\n\n\nHeadphones or earbuds with microphones are preferred\n\n\n\nComputer/device mic and speakers are ok if in private\, quiet room.\n\n\n\nEach student should be on their own computer/laptop/tablet\, if possible.\n\n\n\n\n\nMeet Your Course Instructor:\n\n\n\n\n\n\n\n\n\n\n\n\n\n\n\nDaphene Koch | PhDOwner\, Build Your Know LLC \n\n\n\nDaphene is passionate about developing workforce in the construction industry by increasing individual expertise. Daphene has been teaching AGC courses since 2000. She brings over 20 years of construction industry experience on commercial and industrial projects. While a professor at Purdue University in the School of Construction Management professor she partnered with contractors for research in the development\, facilitation and  assessment of training. She currently teaches virtual\, hybrid and in seat courses in Project Management\, Field Supervision and Construction technical areas.
URL:https://edge.agc.org/course/vstp260501/
CATEGORIES:STP
ATTACH;FMTTYPE=image/png:https://edge.agc.org/wp-content/uploads/2024/02/AGC_VirtualEducation_AdditionalLogos-02-e1760391090339.png
END:VEVENT
END:VCALENDAR