BEGIN:VCALENDAR
VERSION:2.0
PRODID:-//AGC Edge - ECPv6.15.15//NONSGML v1.0//EN
CALSCALE:GREGORIAN
METHOD:PUBLISH
X-WR-CALNAME:AGC Edge
X-ORIGINAL-URL:https://edge.agc.org
X-WR-CALDESC:Events for AGC Edge
REFRESH-INTERVAL;VALUE=DURATION:PT1H
X-Robots-Tag:noindex
X-PUBLISHED-TTL:PT1H
BEGIN:VTIMEZONE
TZID:America/New_York
BEGIN:DAYLIGHT
TZOFFSETFROM:-0500
TZOFFSETTO:-0400
TZNAME:EDT
DTSTART:20250309T070000
END:DAYLIGHT
BEGIN:STANDARD
TZOFFSETFROM:-0400
TZOFFSETTO:-0500
TZNAME:EST
DTSTART:20251102T060000
END:STANDARD
BEGIN:DAYLIGHT
TZOFFSETFROM:-0500
TZOFFSETTO:-0400
TZNAME:EDT
DTSTART:20260308T070000
END:DAYLIGHT
BEGIN:STANDARD
TZOFFSETFROM:-0400
TZOFFSETTO:-0500
TZNAME:EST
DTSTART:20261101T060000
END:STANDARD
BEGIN:DAYLIGHT
TZOFFSETFROM:-0500
TZOFFSETTO:-0400
TZNAME:EDT
DTSTART:20270314T070000
END:DAYLIGHT
BEGIN:STANDARD
TZOFFSETFROM:-0400
TZOFFSETTO:-0500
TZNAME:EST
DTSTART:20271107T060000
END:STANDARD
END:VTIMEZONE
BEGIN:VEVENT
DTSTART;TZID=America/New_York:20260514T100000
DTEND;TZID=America/New_York:20260528T153000
DTSTAMP:20260420T212425
CREATED:20251124T174602Z
LAST-MODIFIED:20251203T231206Z
UID:10001021-1778752800-1779982200@edge.agc.org
SUMMARY:Productivity and Managing Project Costs (STP Unit 5)
DESCRIPTION:Classes are held ThursdaysMay 14\, 21\, 2810 AM – 3:30 PM EDT  \n\n\n\n\n\n\n\n\n\n\n\n\n\n\n\n\nView other courses in the STP\n\n\n\n\n\n\n\n\n\n\n\n\n\nAbout the Course\n\n\n\nProductivity and Managing Project Costs: Master the Metrics of Project SuccessIn the competitive world of construction\, maximizing productivity and effectively managing project costs are essential for success. The  Productivity and Project Costs unit in AGC’s Supervisory Training Program\, 10th edition provides you with the tools and techniques to monitor\, manage\, and optimize these critical aspects of your projects. The highly collaborative virtual program provides instruction via Zoom and is best suited for anyone on a construction jobsite in a supervisory role – from the new supervisor or foreman to the experienced superintendent who is looking to become a more effective manager of people\, time\, equipment and materials. \n\n\n\n\nTracking Productivity: Learn how to systematically track productivity on your construction site. Understand the key performance indicators (KPIs) that matter and how to use them to gauge efficiency and performance.\n\n\n\nManaging Project Costs: Discover strategies for accurate cost estimation\, budgeting\, and cost control. Learn how to monitor expenses in real-time and make data-driven decisions to keep your projects on budget.\n\n\n\nData-Driven Decisions: Gain insights into how tracking productivity and costs can enhance not only current project success but also provide valuable data for future projects. Use historical data to predict challenges and create more accurate project plans.\n\n\n\n\nThis course is 1 of 6 units in the newly updated Supervisory Training Program (STP); a construction-specific training curriculum developed\, updated and field-tested by and for contractors. Supervisory skill—or the lack of it—directly affects every company’s bottom line. You make your money in the field\, and STP can help you improve your organization’s bottom line. \n\n\n\n\n\n. \n\n\n\nTopics Addressed \n\n\n\n\nLesson 1: Introduction to Project Costs and Productivity\n\n\n\nLesson 2: Creating the Project Budget\n\n\n\nLesson 3: Field Cost Control\n\n\n\nLesson 4: Cost Control Reports\n\n\n\nLesson 5: Labor Productivity\n\n\n\nLesson 6: Equipment Productivity\n\n\n\nLesson 7: Post-Project Evaluation\n\n\n\n\nSTP Learning Objectives \n\n\n\nCancellation Policy: A full refund will be given to cancellations made 14 calendar days prior to the class kick-off. After such time\, no refunds will be given. Replacements are acceptable and must be submitted via email to meetings[@]agc.org. \n\n\n\nTransfer Policy: All transfers must be to courses starting within 90 days of the original course start date. Send transfer requests to meetings[@]agc.org.  \n\n\n\nAGC reserves the right to cancel programs up to 10 days prior to the start date if a minimum number of attendees is not met. \n\n\n\nQuestions? Email us at education[@]agc.org  \n\n\n\nAfter completing the course\, AGC Edge students receive a Certificate of Completion and a digital badge to share. \n\n\n\n\n\n\nTechnology and Participation: \n\n\n\n\nFor the classroom: \n\n\n\nFor participation: \n\n\n\n\nPlease have Zoom downloaded.\n\n\n\nComputer with dual monitor preferred.\n\n\n\nLaptop is good with a separate tablet to access their etextbook.\n\n\n\nTablet or phone is ok with hardcopy textbook\n\n\n\nTwo mobile devices ok – one for the meeting and one for the etextbook\n\n\n\n\n\nCamera\, either built in or added on and ready to stream to the classroom.\n\n\n\nHeadphones or earbuds with microphones are preferred\n\n\n\nComputer/device mic and speakers are ok if in private\, quiet room.\n\n\n\nEach student should be on their own computer/laptop/tablet\, if possible.\n\n\n\n\n\nMeet Your Course Instructor:\n\n\n\n\n\n\n\n\n\n\n\n\n\n\n\nDaphene Koch | PhDOwner\, Build Your Know LLC \n\n\n\nDaphene is passionate about developing workforce in the construction industry by increasing individual expertise. Daphene has been teaching AGC courses since 2000. She brings over 20 years of construction industry experience on commercial and industrial projects. While a professor at Purdue University in the School of Construction Management professor she partnered with contractors for research in the development\, facilitation and  assessment of training. She currently teaches virtual\, hybrid and in seat courses in Project Management\, Field Supervision and Construction technical areas.
URL:https://edge.agc.org/course/vstp260502/
CATEGORIES:STP
ATTACH;FMTTYPE=image/png:https://edge.agc.org/wp-content/uploads/2024/02/AGC_VirtualEducation_AdditionalLogos-02-e1760391090339.png
END:VEVENT
END:VCALENDAR