BEGIN:VCALENDAR
VERSION:2.0
PRODID:-//AGC Edge - ECPv6.15.15//NONSGML v1.0//EN
CALSCALE:GREGORIAN
METHOD:PUBLISH
X-ORIGINAL-URL:https://edge.agc.org
X-WR-CALDESC:Events for AGC Edge
REFRESH-INTERVAL;VALUE=DURATION:PT1H
X-Robots-Tag:noindex
X-PUBLISHED-TTL:PT1H
BEGIN:VTIMEZONE
TZID:America/New_York
BEGIN:DAYLIGHT
TZOFFSETFROM:-0500
TZOFFSETTO:-0400
TZNAME:EDT
DTSTART:20250309T070000
END:DAYLIGHT
BEGIN:STANDARD
TZOFFSETFROM:-0400
TZOFFSETTO:-0500
TZNAME:EST
DTSTART:20251102T060000
END:STANDARD
BEGIN:DAYLIGHT
TZOFFSETFROM:-0500
TZOFFSETTO:-0400
TZNAME:EDT
DTSTART:20260308T070000
END:DAYLIGHT
BEGIN:STANDARD
TZOFFSETFROM:-0400
TZOFFSETTO:-0500
TZNAME:EST
DTSTART:20261101T060000
END:STANDARD
BEGIN:DAYLIGHT
TZOFFSETFROM:-0500
TZOFFSETTO:-0400
TZNAME:EDT
DTSTART:20270314T070000
END:DAYLIGHT
BEGIN:STANDARD
TZOFFSETFROM:-0400
TZOFFSETTO:-0500
TZNAME:EST
DTSTART:20271107T060000
END:STANDARD
END:VTIMEZONE
BEGIN:VEVENT
DTSTART;TZID=America/New_York:20260813T100000
DTEND;TZID=America/New_York:20260827T153000
DTSTAMP:20260424T132250
CREATED:20251121T213155Z
LAST-MODIFIED:20251205T172733Z
UID:10001013-1786615200-1787844600@edge.agc.org
SUMMARY:Leadership and Motivation (STP Unit 1) Thursdays
DESCRIPTION:Classes are held ThursdaysAugust 13\, 20\, 2710 AM – 3:30 PM EDT  \n\n\n\n\n\n\n\n\n\n\n\n\n\n\n\n\nView other courses in the STP\n\n\n\n\n\n\n\n\n\nAbout the Course\n\n\n\nLeadership and Motivation: Building Strong\, Effective TeamsIn the dynamic world of construction\, effective leadership is the cornerstone of project success. The Leadership and Motivation unit within AGC’s Supervisory Training Program\, 10th edition is designed to equip you with the tools and strategies needed to lead with confidence and inspire your team. The highly collaborative virtual program provides instruction via Zoom and is best suited for anyone on a construction jobsite in a supervisory role – from the new supervisor or foreman to the experienced superintendent who is looking to become a more effective manager of people\, time\, equipment and materials. \n\n\n\n\nDefining the Role of a Leader: Understand the core responsibilities and qualities of an exceptional leader in construction. Learn how to set clear goals\, make decisive decisions\, and manage your team effectively.\n\n\n\nMotivating Project Partners: Discover proven techniques to motivate your team and project partners. Learn how to foster a positive work environment that encourages collaboration\, innovation\, and productivity.\n\n\n\nCurrent Best Practices: Stay ahead of industry trends with insights into the latest leadership practices. Learn from real-world case studies and examples to apply these best practices in your own projects. The concepts in these units build on one another defining the roles of a leader in construction and motivating project partners. Communication is the key to a successful project outcome and collaboration is a large part of construction.      \n\n\n\n\nThis course is 1 of 6 units in the newly updated Supervisory Training Program (STP); a construction-specific training curriculum developed\, updated and field-tested by and for contractors. Supervisory skill—or the lack of it—directly affects every company’s bottom line. You make your money in the field\, and STP can help you improve your organization’s bottom line. \n\n\n\n\n\n. \n\n\n\nTopics Addressed \n\n\n\n\nLesson 1: The Value of Project Leadership\n\n\n\nLesson 2: Leading In Construction\n\n\n\nLesson 3: Team Development\n\n\n\nLesson 4: Succeeding as a Leader\n\n\n\nLesson 5: Motivating Your Team\n\n\n\nLesson 6: Expectations and Accountability\n\n\n\nLesson 7: Improve Your Team\n\n\n\nLesson 8: Leadership Skills in Action\n\n\n\n\nSTP Learning Objectives \n\n\n\nCancellation Policy: A full refund will be given to cancellations made 14 calendar days prior to the class kick-off. After such time\, no refunds will be given. Replacements are acceptable and must be submitted via email to meetings[@]agc.org. \n\n\n\nTransfer Policy: All transfers must be to courses starting within 90 days of the original course start date. Send transfer requests to meetings[@]agc.org.  \n\n\n\nAGC reserves the right to cancel programs up to 10 days prior to the start date if a minimum number of attendees is not met. \n\n\n\nQuestions? Email us at education[@]agc.org  \n\n\n\n \n\n\n\nAfter completing the course\, students receive a Certificate of Completion and a digital badge to share. \n\n\n\n\n\n\nTechnology and Participation: \n\n\n\n\nFor the classroom: \n\n\n\nFor participation: \n\n\n\n\nPlease have Zoom downloaded.\n\n\n\nComputer with dual monitor preferred.\n\n\n\nLaptop is good with a separate tablet to access their etextbook.\n\n\n\nTablet or phone is ok with hardcopy textbook\n\n\n\nTwo mobile devices ok – one for the meeting and one for the etextbook\n\n\n\n\n\nCamera\, either built in or added on and ready to stream to the classroom.\n\n\n\nHeadphones or earbuds with microphones are preferred\n\n\n\nComputer/device mic and speakers are ok if in private\, quiet room.\n\n\n\nEach student should be on their own computer/laptop/tablet\, if possible.\n\n\n\n\n\nMeet Your Course Instructor:\n\n\n\n\n\n\n\n\n\n\n\n\n\n\n\nShawn TraskyConsultant \n\n\n\nShawn Trasky was raised in Chugiak\, Alaska. She earned her bachelor’s degree in Environmental Engineering and her master’s degree in Project Engineering and Management\, both from Montana Tech. She has over 20 years of diverse experience in the field\, including working for oil and gas companies\, private consulting\, and construction in Alaska.
URL:https://edge.agc.org/course/vstp260802/
CATEGORIES:STP
ATTACH;FMTTYPE=image/png:https://edge.agc.org/wp-content/uploads/2024/02/AGC_VirtualEducation_AdditionalLogos-02-e1760391090339.png
END:VEVENT
BEGIN:VEVENT
DTSTART;TZID=America/New_York:20260817T160000
DTEND;TZID=America/New_York:20260825T203000
DTSTAMP:20260424T132250
CREATED:20251013T213318Z
LAST-MODIFIED:20251205T173104Z
UID:10001009-1786982400-1787689800@edge.agc.org
SUMMARY:Managing Risks (STP Unit 6)
DESCRIPTION:Classes are held Mondays and TuesdaysAugust 17\, 18\, 24\, 254 – 8:30 PM EDT  \n\n\n\n\n\n\n\n\n\n\n\n\n\n\n\n\nView other courses in the STP\n\n\n\n\n\n\n\n\n\nAbout the Course\n\n\n\nManaging Risks: Safeguarding Project SuccessConstruction projects come with inherent risks\, but effective risk management can significantly enhance project outcomes. The Managing Risks unit in AGC’s Supervisory Training Program\, 10th edition focuses on identifying\, assessing\, and mitigating risks to ensure your projects are safe\, cost-effective\, and on schedule. The highly collaborative virtual program provides instruction via Zoom and is best suited for anyone on a construction jobsite in a supervisory role – from the new supervisor or foreman to the experienced superintendent who is looking to become a more effective manager of people\, time\, equipment and materials. \n\n\n\n\nIdentifying Risks: Learn how to identify potential risks early in the project lifecycle. Understand the different types of risks\, including safety\, financial\, quality\, and schedule-related risks.\n\n\n\nRisk Evaluation and Mitigation: Discover techniques for evaluating risks and developing effective mitigation strategies. Learn how to create solutions that shift risk and enhance project success.\n\n\n\nComprehensive Risk Management: Understand the importance of a comprehensive risk management plan. Gain skills in implementing and monitoring risk management practices that ensure project resilience and reliability.    \n\n\n\n\nThis course is 1 of 6 units in the newly updated Supervisory Training Program (STP); a construction-specific training curriculum developed\, updated and field-tested by and for contractors. Supervisory skill—or the lack of it—directly affects every company’s bottom line. You make your money in the field\, and STP can help you improve your organization’s bottom line. \n\n\n\n\n\n. \n\n\n\nTopics Addressed \n\n\n\n\nLesson 1: Risk in Construction\n\n\n\nLesson 2: Categories of Risk\n\n\n\nLesson 3: Risk Assessment\n\n\n\nLesson 4: Risk Managment\n\n\n\nLesson 5: Problem-Solving Tools\n\n\n\nLesson 6: Solutions for Common Risks\n\n\n\n\nSTP Learning Objectives \n\n\n\nCancellation Policy: A full refund will be given to cancellations made 14 calendar days prior to the class kick-off. After such time\, no refunds will be given. Replacements are acceptable and must be submitted via email to meetings[@]agc.org. \n\n\n\nTransfer Policy: All transfers must be to courses starting within 90 days of the original course start date. Send transfer requests to meetings[@]agc.org.  \n\n\n\nAGC reserves the right to cancel programs up to 10 days prior to the start date if a minimum number of attendees is not met. \n\n\n\nQuestions? Email us at education[@]agc.org  \n\n\n\nAfter completing the course\, AGC Edge students receive a Certificate of Completion and a digital badge to share. \n\n\n\n\n\n\nTechnology and Participation: \n\n\n\n\nFor the classroom: \n\n\n\nFor participation: \n\n\n\n\nPlease have Zoom downloaded.\n\n\n\nComputer with dual monitor preferred.\n\n\n\nLaptop is good with a separate tablet to access their etextbook.\n\n\n\nTablet or phone is ok with hardcopy textbook\n\n\n\nTwo mobile devices ok – one for the meeting and one for the etextbook\n\n\n\n\n\nCamera\, either built in or added on and ready to stream to the classroom.\n\n\n\nHeadphones or earbuds with microphones are preferred\n\n\n\nComputer/device mic and speakers are ok if in private\, quiet room.\n\n\n\nEach student should be on their own computer/laptop/tablet\, if possible.\n\n\n\n\n\nMeet Your Course Instructor:\n\n\n\n\n\n\n\n\n\n\n\n\n\n\n\nPaul FlentgeCSP Ret.\, CHST Ret\, GAC \n\n\n\nPaul has been a Chicago area construction industry member for over 30 years. Paul began his career as a carpenter and expanded through site supervision and project superintendent. His experience includes general building\, safety management\, leadership\, and training. He served as a superintendent and Safety Director at Pepper Construction for more than 18 years. Paul currently provides safety management and supervisory consulting services to the construction industry.
URL:https://edge.agc.org/course/vstp260801/
CATEGORIES:STP
ATTACH;FMTTYPE=image/png:https://edge.agc.org/wp-content/uploads/2024/02/AGC_VirtualEducation_AdditionalLogos-02-e1760391090339.png
END:VEVENT
END:VCALENDAR